BEGIN:VCALENDAR
VERSION:2.0
PRODID:-//Covalent Logic//Content Management System//EN
BEGIN:VEVENT
UID:1776754571678.COVALENTLOGIC.COM
DTSTART:20200804T153000Z
DTEND:20200804T163000Z
SUMMARY:72nd Avenue Sidewalks Project Groundbreaking
LOCATION:Baton Rouge, LA
DESCRIPTION:Groundbreaking for 72nd Avenue Sidewalks Project Phase 1 (Scenic Highway to I-110)
PRIORITY:5
END:VEVENT
END:VCALENDAR