BEGIN:VCALENDAR
VERSION:2.0
PRODID:-//Covalent Logic//Content Management System//EN
BEGIN:VEVENT
UID:1776730655260.COVALENTLOGIC.COM
DTSTART:20201029T230000Z
DTEND:20201030T000000Z
SUMMARY:Mall of Louisiana Blvd. (Picardy-Perkins Connector) Public Meeting
LOCATION:Virtual - Zoom
DESCRIPTION:The MOVEBR Program Team is hosting a virtual public meeting on the Mall of Louisiana Blvd. (Picardy-Perkins Connector) Project. This meeting will provide information on the plans and current status of the project.
PRIORITY:5
END:VEVENT
END:VCALENDAR