BEGIN:VCALENDAR
VERSION:2.0
PRODID:-//Covalent Logic//Content Management System//EN
BEGIN:VEVENT
UID:1776724689270.COVALENTLOGIC.COM
DTSTART:20201112T230000Z
DTEND:20201113T000000Z
SUMMARY:Avoiding Common Bid Errors Webinar
LOCATION:
DESCRIPTION:
PRIORITY:5
END:VEVENT
END:VCALENDAR