BEGIN:VCALENDAR
VERSION:2.0
PRODID:-//Covalent Logic//Content Management System//EN
BEGIN:VEVENT
UID:1776725856313.COVALENTLOGIC.COM
DTSTART:20201105T220000Z
DTEND:20201106T003000Z
SUMMARY:Engineer and Surveyor Selection Board Meeting
LOCATION:
DESCRIPTION:The EBR Parish Engineer and Surveyor Selection Board will meet on November 5, 2020 via a web accessible format to select teams and alternates for the following projects: Airline Hwy North (I-110 to Florida), Airline Hwy South (Bluebonnet to Parish Line), Ward Creek at Siegen Lane Channel Improvements and Parishwide Road Rehabilitation.
PRIORITY:5
END:VEVENT
END:VCALENDAR