BEGIN:VCALENDAR
VERSION:2.0
PRODID:-//Covalent Logic//Content Management System//EN
BEGIN:VEVENT
UID:1776719835883.COVALENTLOGIC.COM
DTSTART:20201209T003000Z
DTEND:20201209T013000Z
SUMMARY:Doing Business with MOVEBR Webinar
LOCATION:Virtual (Via Zoom)
DESCRIPTION:
PRIORITY:5
END:VEVENT
END:VCALENDAR