BEGIN:VCALENDAR
VERSION:2.0
PRODID:-//Covalent Logic//Content Management System//EN
BEGIN:VEVENT
UID:1776719754393.COVALENTLOGIC.COM
DTSTART:20201221T180000Z
DTEND:20201221T190000Z
SUMMARY:SJB Group & MOVEBR Webinar
LOCATION:Virtual (via Zoom)
DESCRIPTION:
PRIORITY:5
END:VEVENT
END:VCALENDAR