BEGIN:VCALENDAR
VERSION:2.0
PRODID:-//Covalent Logic//Content Management System//EN
BEGIN:VEVENT
UID:1776714460692.COVALENTLOGIC.COM
DTSTART:20210127T170000Z
DTEND:20210127T180000Z
SUMMARY:Mall of La Blvd. (Picardy - Perkins Connector) Groundbreaking
LOCATION:Location TBD
DESCRIPTION:
PRIORITY:5
END:VEVENT
END:VCALENDAR