BEGIN:VCALENDAR
VERSION:2.0
PRODID:-//Covalent Logic//Content Management System//EN
BEGIN:VEVENT
UID:1776688260354.COVALENTLOGIC.COM
DTSTART:20210504T230000Z
DTEND:20210505T000000Z
SUMMARY:Public Meeting: Jones Creek Road (Tiger Bend – Airline Hwy) Project
LOCATION:Zoom
DESCRIPTION:
PRIORITY:5
END:VEVENT
END:VCALENDAR