BEGIN:VCALENDAR
VERSION:2.0
PRODID:-//Covalent Logic//Content Management System//EN
BEGIN:VEVENT
UID:1776688204970.COVALENTLOGIC.COM
DTSTART:20210506T150000Z
DTEND:20210506T153000Z
SUMMARY:1st Thursday Outlook May Meeting
LOCATION:Zoom
DESCRIPTION:
PRIORITY:5
END:VEVENT
END:VCALENDAR