BEGIN:VCALENDAR
VERSION:2.0
PRODID:-//Covalent Logic//Content Management System//EN
BEGIN:VEVENT
UID:1776688260354.COVALENTLOGIC.COM
DTSTART:20210511T230000Z
DTEND:20210512T000000Z
SUMMARY:Public Meeting: McHugh Rd. (Groom - Lower Zachary) Project
LOCATION:Zoom
DESCRIPTION:
PRIORITY:5
END:VEVENT
END:VCALENDAR