BEGIN:VCALENDAR
VERSION:2.0
PRODID:-//Covalent Logic//Content Management System//EN
BEGIN:VEVENT
UID:1776736565118.COVALENTLOGIC.COM
DTSTART:20200911T050000Z
DTEND:20200912T045959Z
SUMMARY:Airline Hwy South Advertisement Release
LOCATION:
DESCRIPTION:
PRIORITY:5
END:VEVENT
END:VCALENDAR