BEGIN:VCALENDAR
VERSION:2.0
PRODID:-//Covalent Logic//Content Management System//EN
BEGIN:VEVENT
UID:1776854374485.COVALENTLOGIC.COM
DTSTART:20210513T230000Z
DTEND:20210514T000000Z
SUMMARY:Public Meeting: Old Hammond Hwy Seg. 2 (Millerville - O'Neal) Project
LOCATION:Zoom
DESCRIPTION:
PRIORITY:5
END:VEVENT
END:VCALENDAR