BEGIN:VCALENDAR
VERSION:2.0
PRODID:-//Covalent Logic//Content Management System//EN
BEGIN:VEVENT
UID:1776688204970.COVALENTLOGIC.COM
DTSTART:20210520T230000Z
DTEND:20210521T000000Z
SUMMARY:Public Meeting: South Choctaw (Flannery - Central Thruway) Project
LOCATION:Zoom
DESCRIPTION:
PRIORITY:5
END:VEVENT
END:VCALENDAR