BEGIN:VCALENDAR
VERSION:2.0
PRODID:-//Covalent Logic//Content Management System//EN
BEGIN:VEVENT
UID:1776848897413.COVALENTLOGIC.COM
DTSTART:20210624T220000Z
DTEND:20210624T230000Z
SUMMARY:MacHost Road Project Public Open House
LOCATION:Redwood Baptist Church
DESCRIPTION:Mayor-President Sharon Weston Broome, Mayor David Amrhein and the MOVEBR Program Management Team will host a public open house on the MacHost Road Project (LA 64 to Pride Port Hudson).
PRIORITY:5
END:VEVENT
END:VCALENDAR