BEGIN:VCALENDAR
VERSION:2.0
PRODID:-//Covalent Logic//Content Management System//EN
BEGIN:VEVENT
UID:1776681346709.COVALENTLOGIC.COM
DTSTART:20210617T230000Z
DTEND:20210618T000000Z
SUMMARY:Hooper Road (Blackwater – Sullivan) Public Open House
LOCATION:Central High School Gym , 10200 E Brookside Drive, Baton Rouge, LA 70818
DESCRIPTION:The City-Parish and MOVEBR Program Management Team will host a public open house for the Hooper Road (Blackwater &ndash; Sullivan) Project. This project proposes to widen Hooper Road to provide additional capacity and pedestrian facilities.
PRIORITY:5
END:VEVENT
END:VCALENDAR