BEGIN:VCALENDAR
VERSION:2.0
PRODID:-//Covalent Logic//Content Management System//EN
BEGIN:VEVENT
UID:1776674115030.COVALENTLOGIC.COM
DTSTART:20210701T150000Z
DTEND:20210701T153000Z
SUMMARY:1st Thursday Outlook July Meeting
LOCATION:Virtual Zoom Meeting
DESCRIPTION:
PRIORITY:5
END:VEVENT
END:VCALENDAR