BEGIN:VCALENDAR
VERSION:2.0
PRODID:-//Covalent Logic//Content Management System//EN
BEGIN:VEVENT
UID:1776667021209.COVALENTLOGIC.COM
DTSTART:20210805T150000Z
DTEND:20210806T033000Z
SUMMARY:1st Thursday Outlook August Meeting
LOCATION:Virtual Zoom Meeting
DESCRIPTION:
PRIORITY:5
END:VEVENT
END:VCALENDAR