BEGIN:VCALENDAR
VERSION:2.0
PRODID:-//Covalent Logic//Content Management System//EN
BEGIN:VEVENT
UID:1776667020835.COVALENTLOGIC.COM
DTSTART:20210810T130000Z
DTEND:20210810T200000Z
SUMMARY:Pervious Concrete Contractor Certification
LOCATION:CAAL's Office, 18212 E. Petroleum Dr, Bldg 7, Baton Rouge, LA 70809
DESCRIPTION:
PRIORITY:5
END:VEVENT
END:VCALENDAR