BEGIN:VCALENDAR
VERSION:2.0
PRODID:-//Covalent Logic//Content Management System//EN
BEGIN:VEVENT
UID:1777033013358.COVALENTLOGIC.COM
DTSTART:20210902T230000Z
DTEND:20210903T000000Z
SUMMARY:POSTPONED: Public Meeting: Perkins Road (Siegen – Pecue) Project
LOCATION:Zoom
DESCRIPTION:
PRIORITY:5
END:VEVENT
END:VCALENDAR