BEGIN:VCALENDAR
VERSION:2.0
PRODID:-//Covalent Logic//Content Management System//EN
BEGIN:VEVENT
UID:1776765052661.COVALENTLOGIC.COM
DTSTART:20200724T050000Z
DTEND:20200725T045959Z
SUMMARY:Terrace Avenue Advertisement Release
LOCATION:
DESCRIPTION:
PRIORITY:5
END:VEVENT
END:VCALENDAR