BEGIN:VCALENDAR
VERSION:2.0
PRODID:-//Covalent Logic//Content Management System//EN
BEGIN:VEVENT
UID:1776653019002.COVALENTLOGIC.COM
DTSTART:20211012T230000Z
DTEND:20211013T000000Z
SUMMARY:Bluebonnet / Midway / Constantin Virtual Public Meeting
LOCATION:Zoom
DESCRIPTION:
PRIORITY:5
END:VEVENT
END:VCALENDAR