BEGIN:VCALENDAR
VERSION:2.0
PRODID:-//Covalent Logic//Content Management System//EN
BEGIN:VEVENT
UID:1776639107807.COVALENTLOGIC.COM
DTSTART:20211215T233000Z
DTEND:20211216T003000Z
SUMMARY:72nd Avenue Sidewalks Phase II Public Open House
LOCATION:ExxonMobil YMCA
DESCRIPTION:Mayor-President Sharon Weston Broome,  and the MOVEBR Program Management Team will host a public open house on the 72nd Avenue Sidewalks Ph II (I-110 to Plank Rd) Project.
PRIORITY:5
END:VEVENT
END:VCALENDAR