BEGIN:VCALENDAR
VERSION:2.0
PRODID:-//Covalent Logic//Content Management System//EN
BEGIN:VEVENT
UID:1776632379745.COVALENTLOGIC.COM
DTSTART:20220110T233000Z
DTEND:20220111T013000Z
SUMMARY:Elm Grove Garden Sidewalks Project Community Open House
LOCATION:Jewel Newman Community Center
DESCRIPTION:
PRIORITY:5
END:VEVENT
END:VCALENDAR