BEGIN:VCALENDAR
VERSION:2.0
PRODID:-//Covalent Logic//Content Management System//EN
BEGIN:VEVENT
UID:1776610085758.COVALENTLOGIC.COM
DTSTART:20220210T233000Z
DTEND:20220211T010000Z
SUMMARY:Lee Drive (Highland – Perkins) Public Open House
LOCATION:Marriott Hotel
DESCRIPTION:
PRIORITY:5
END:VEVENT
END:VCALENDAR