BEGIN:VCALENDAR
VERSION:2.0
PRODID:-//Covalent Logic//Content Management System//EN
BEGIN:VEVENT
UID:1776611208305.COVALENTLOGIC.COM
DTSTART:20220215T233000Z
DTEND:20220216T003000Z
SUMMARY:Plank Road Corridor Enhancement Segment 2 (Dawson Dr to Harding Blvd) Public Open House
LOCATION:ExxonMobil YMCA
DESCRIPTION:
PRIORITY:5
END:VEVENT
END:VCALENDAR