BEGIN:VCALENDAR
VERSION:2.0
PRODID:-//Covalent Logic//Content Management System//EN
BEGIN:VEVENT
UID:1776604303446.COVALENTLOGIC.COM
DTSTART:20220304T000000Z
DTEND:20220304T020000Z
SUMMARY:Groom Road Corridor Improvements (LA 19 – Plank Road) Virtual Public Meeting
LOCATION:Zoom Meeting
DESCRIPTION:
PRIORITY:5
END:VEVENT
END:VCALENDAR