BEGIN:VCALENDAR
VERSION:2.0
PRODID:-//Covalent Logic//Content Management System//EN
BEGIN:VEVENT
UID:1776604291881.COVALENTLOGIC.COM
DTSTART:20220310T233000Z
DTEND:20220311T003000Z
SUMMARY:Terrace Avenue (Highland Rd - Perkins Rd) Public Open House
LOCATION:Carver Branch Library, Room 2
DESCRIPTION:
PRIORITY:5
END:VEVENT
END:VCALENDAR