BEGIN:VCALENDAR
VERSION:2.0
PRODID:-//Covalent Logic//Content Management System//EN
BEGIN:VEVENT
UID:1776600734249.COVALENTLOGIC.COM
DTSTART:20220825T223000Z
DTEND:20220826T000000Z
SUMMARY:Nicholson Drive (Brightside – Gourrier) Public Open House
LOCATION:Thrive Academy Gymnasium
DESCRIPTION:
PRIORITY:5
END:VEVENT
END:VCALENDAR