BEGIN:VCALENDAR
VERSION:2.0
PRODID:-//Covalent Logic//Content Management System//EN
BEGIN:VEVENT
UID:1776774605022.COVALENTLOGIC.COM
DTSTART:20220929T223000Z
DTEND:20220929T233000Z
SUMMARY:Highland at Siegen Project Virtual Public Meeting
LOCATION:Virtual Zoom Meeting
DESCRIPTION:
PRIORITY:5
END:VEVENT
END:VCALENDAR