BEGIN:VCALENDAR
VERSION:2.0
PRODID:-//Covalent Logic//Content Management System//EN
BEGIN:VEVENT
UID:1776886419176.COVALENTLOGIC.COM
DTSTART:20241205T160000Z
DTEND:20241205T163000Z
SUMMARY:1st Thursday Outlook Meeting
LOCATION:Virtual Zoom Meeting
DESCRIPTION:
PRIORITY:5
END:VEVENT
END:VCALENDAR