BEGIN:VCALENDAR
VERSION:2.0
PRODID:-//Covalent Logic//Content Management System//EN
BEGIN:VEVENT
UID:1776898531874.COVALENTLOGIC.COM
DTSTART:20240930T230000Z
DTEND:20241001T010000Z
SUMMARY:District 1 Meeting: Rollins Road Open House
LOCATION:Zachary Town Hall
DESCRIPTION:
PRIORITY:5
END:VEVENT
END:VCALENDAR