BEGIN:VCALENDAR
VERSION:2.0
PRODID:-//Covalent Logic//Content Management System//EN
BEGIN:VEVENT
UID:1776898531643.COVALENTLOGIC.COM
DTSTART:20241007T220000Z
DTEND:20241008T000000Z
SUMMARY:MOVEBR Roadshow Open House Stop #1
LOCATION:Automotive Technology Center-BRCC
DESCRIPTION:
PRIORITY:5
END:VEVENT
END:VCALENDAR