BEGIN:VCALENDAR
VERSION:2.0
PRODID:-//Covalent Logic//Content Management System//EN
BEGIN:VEVENT
UID:1776898506832.COVALENTLOGIC.COM
DTSTART:20241016T223000Z
DTEND:20241017T003000Z
SUMMARY:MOVEBR Roadshow Open House Stop #2
LOCATION:Bluebonnet Library
DESCRIPTION:
PRIORITY:5
END:VEVENT
END:VCALENDAR