BEGIN:VCALENDAR
VERSION:2.0
PRODID:-//Covalent Logic//Content Management System//EN
BEGIN:VEVENT
UID:1776898506421.COVALENTLOGIC.COM
DTSTART:20241023T223000Z
DTEND:20241024T003000Z
SUMMARY:MOVEBR Roadshow Open House Stop #3
LOCATION:Jones Creek Library
DESCRIPTION:
PRIORITY:5
END:VEVENT
END:VCALENDAR