BEGIN:VCALENDAR
VERSION:2.0
PRODID:-//Covalent Logic//Content Management System//EN
BEGIN:VEVENT
UID:1776892386840.COVALENTLOGIC.COM
DTSTART:20241029T223000Z
DTEND:20241030T003000Z
SUMMARY:MOVEBR Roadshow Open House Stop #4
LOCATION:Main Library
DESCRIPTION:
PRIORITY:5
END:VEVENT
END:VCALENDAR