BEGIN:VCALENDAR
VERSION:2.0
PRODID:-//Covalent Logic//Content Management System//EN
BEGIN:VEVENT
UID:1776886245945.COVALENTLOGIC.COM
DTSTART:20241218T230000Z
DTEND:20241219T003000Z
SUMMARY:Highland Road at Pecue Lane Public Open House
LOCATION:Highland Road Community Park Recreation Center
DESCRIPTION:
PRIORITY:5
END:VEVENT
END:VCALENDAR