BEGIN:VCALENDAR
VERSION:2.0
PRODID:-//Covalent Logic//Content Management System//EN
BEGIN:VEVENT
UID:1776880785127.COVALENTLOGIC.COM
DTSTART:20250116T140000Z
DTEND:20250116T164000Z
SUMMARY:Register For The MOVEBR Contractor Connection: 2025 Outlook & Opportunity Sharing
LOCATION:Louisiana Associated General Contractors Office, 666 North St, Baton Rouge, LA 70802
DESCRIPTION:
PRIORITY:5
END:VEVENT
END:VCALENDAR