BEGIN:VCALENDAR
VERSION:2.0
PRODID:-//Covalent Logic//Content Management System//EN
BEGIN:VEVENT
UID:1776600733998.COVALENTLOGIC.COM
DTSTART:20260225T000000Z
DTEND:20260225T013000Z
SUMMARY:Mickens Road Project Public Open House
LOCATION:Glen Oaks High School | 6650 Cedar Grove Dr.
DESCRIPTION:
PRIORITY:5
END:VEVENT
END:VCALENDAR