BEGIN:VCALENDAR
VERSION:2.0
PRODID:-//Covalent Logic//Content Management System//EN
BEGIN:VEVENT
UID:1776771048823.COVALENTLOGIC.COM
DTSTART:20260423T223000Z
DTEND:20260424T000000Z
SUMMARY:Transforming Ardendale Community Event
LOCATION:BRCC Ardendale Facility, 2115 North Lobdell Boulevard, Baton Rouge, LA 70806
DESCRIPTION:
PRIORITY:5
END:VEVENT
END:VCALENDAR