BEGIN:VCALENDAR
VERSION:2.0
PRODID:-//Covalent Logic//Content Management System//EN
BEGIN:VEVENT
UID:1776765065204.COVALENTLOGIC.COM
DTSTART:20200625T210000Z
DTEND:20200625T210000Z
SUMMARY:Plank Road Corridor Enhancement Segment 2 RFQ Submission Deadline
LOCATION:
DESCRIPTION:
PRIORITY:5
END:VEVENT
END:VCALENDAR